BEGIN:VCALENDAR
VERSION:2.0
PRODID:-//CLASS EARTH - ECPv6.15.16//NONSGML v1.0//EN
CALSCALE:GREGORIAN
METHOD:PUBLISH
X-ORIGINAL-URL:https://class-earth.com
X-WR-CALDESC:CLASS EARTH のイベント
REFRESH-INTERVAL;VALUE=DURATION:PT1H
X-Robots-Tag:noindex
X-PUBLISHED-TTL:PT1H
BEGIN:VTIMEZONE
TZID:Asia/Tokyo
BEGIN:STANDARD
TZOFFSETFROM:+0900
TZOFFSETTO:+0900
TZNAME:JST
DTSTART:20250101T000000
END:STANDARD
END:VTIMEZONE
BEGIN:VEVENT
DTSTART;TZID=Asia/Tokyo:20260422T173000
DTEND;TZID=Asia/Tokyo:20260422T180000
DTSTAMP:20260421T185221
CREATED:20260409T171859Z
LAST-MODIFIED:20260409T171859Z
UID:5381-1776879000-1776880800@class-earth.com
SUMMARY:【EFE】初級 / Climate / Kano&Yuto
DESCRIPTION:レベル：初級カテゴリ：Climateテーマ：Earth Day　今日はアースデーフレーズ：the Earth（地球）ファシリテーター：Kano&Yuto
URL:https://class-earth.com/event/%e3%80%90efe%e3%80%91%e5%88%9d%e7%b4%9a-climate-kanoyuto/
CATEGORIES:Earth Saver Family English,オンラインイベント
END:VEVENT
BEGIN:VEVENT
DTSTART;TZID=Asia/Tokyo:20260423T173000
DTEND;TZID=Asia/Tokyo:20260423T180000
DTSTAMP:20260421T185221
CREATED:20260409T171913Z
LAST-MODIFIED:20260409T171913Z
UID:5385-1776965400-1776967200@class-earth.com
SUMMARY:【EFE】初級 / Climate / Nao&Yuto
DESCRIPTION:レベル：初級カテゴリ：Climateテーマ：Snow / ゆきフレーズ：Fall (降る)ファシリテーター：Nao&Yuto
URL:https://class-earth.com/event/%e3%80%90efe%e3%80%91%e5%88%9d%e7%b4%9a-climate-naoyuto/
CATEGORIES:Earth Saver Family English,オンラインイベント
END:VEVENT
BEGIN:VEVENT
DTSTART;TZID=Asia/Tokyo:20260423T183000
DTEND;TZID=Asia/Tokyo:20260423T190000
DTSTAMP:20260421T185221
CREATED:20260409T171913Z
LAST-MODIFIED:20260409T171913Z
UID:5387-1776969000-1776970800@class-earth.com
SUMMARY:【EFE】初級 / Circular Economy / Yuika&Yuto
DESCRIPTION:レベル：初級カテゴリ：Circular Economyテーマ：Share / わけるフレーズ：Divide (分ける)ファシリテーター：Yuika&Yuto
URL:https://class-earth.com/event/%e3%80%90efe%e3%80%91%e5%88%9d%e7%b4%9a-circular-economy-yuikayuto/
CATEGORIES:Earth Saver Family English,オンラインイベント
END:VEVENT
BEGIN:VEVENT
DTSTART;TZID=Asia/Tokyo:20260424T183000
DTEND;TZID=Asia/Tokyo:20260424T190000
DTSTAMP:20260421T185221
CREATED:20260409T171928Z
LAST-MODIFIED:20260409T171928Z
UID:5391-1777055400-1777057200@class-earth.com
SUMMARY:【EFE】初級 / Food & Agriculture / Yuto＆Mikey
DESCRIPTION:レベル：初級カテゴリ：Food & Agricultureテーマ：Alternative-meat / 代替肉フレーズ：Try this (これを試す)ファシリテーター：Yuto＆Mikey
URL:https://class-earth.com/event/%e3%80%90efe%e3%80%91%e5%88%9d%e7%b4%9a-food-agriculture-yuto%ef%bc%86mikey/
CATEGORIES:Earth Saver Family English,オンラインイベント
END:VEVENT
BEGIN:VEVENT
DTSTART;TZID=Asia/Tokyo:20260425T100000
DTEND;TZID=Asia/Tokyo:20260425T103000
DTSTAMP:20260421T185221
CREATED:20260409T171929Z
LAST-MODIFIED:20260409T171929Z
UID:5392-1777111200-1777113000@class-earth.com
SUMMARY:【EFE】初級 / Nature & Biodiversity / Tomoko
DESCRIPTION:レベル：初級カテゴリ：Nature & Biodiversityテーマ：Mountain / やまフレーズ：Climb (登る)ファシリテーター：Tomoko
URL:https://class-earth.com/event/%e3%80%90efe%e3%80%91%e5%88%9d%e7%b4%9a-nature-biodiversity-tomoko-3/
CATEGORIES:Earth Saver Family English,オンラインイベント
END:VEVENT
BEGIN:VEVENT
DTSTART;TZID=Asia/Tokyo:20260425T120000
DTEND;TZID=Asia/Tokyo:20260425T123000
DTSTAMP:20260421T185221
CREATED:20260409T171943Z
LAST-MODIFIED:20260409T171943Z
UID:5396-1777118400-1777120200@class-earth.com
SUMMARY:【EFE】初級 / Nature & Biodiversity / Tomoko
DESCRIPTION:レベル：初級カテゴリ：Nature & Biodiversityテーマ：Pet  /  ペットフレーズ：Love (愛する)ファシリテーター：Tomoko
URL:https://class-earth.com/event/%e3%80%90efe%e3%80%91%e5%88%9d%e7%b4%9a-nature-biodiversity-tomoko-4/
CATEGORIES:Earth Saver Family English,オンラインイベント
END:VEVENT
BEGIN:VEVENT
DTSTART;TZID=Asia/Tokyo:20260425T130000
DTEND;TZID=Asia/Tokyo:20260425T133000
DTSTAMP:20260421T185221
CREATED:20260409T171958Z
LAST-MODIFIED:20260409T171958Z
UID:5398-1777122000-1777123800@class-earth.com
SUMMARY:【EFE】初級 / Nature & Biodiversity / Tomoko
DESCRIPTION:レベル：初級カテゴリ：Nature & Biodiversityテーマ：Leaf / はっぱフレーズ：Grow (育つ)ファシリテーター：Tomoko
URL:https://class-earth.com/event/%e3%80%90efe%e3%80%91%e5%88%9d%e7%b4%9a-nature-biodiversity-tomoko-5/
CATEGORIES:Earth Saver Family English,オンラインイベント
END:VEVENT
BEGIN:VEVENT
DTSTART;TZID=Asia/Tokyo:20260425T153000
DTEND;TZID=Asia/Tokyo:20260425T160000
DTSTAMP:20260421T185221
CREATED:20260409T172013Z
LAST-MODIFIED:20260409T172013Z
UID:5403-1777131000-1777132800@class-earth.com
SUMMARY:【EFE】初級 / Food & Agriculture / Yuto
DESCRIPTION:レベル：初級カテゴリ：Food & Agricultureテーマ：Yummy / おいしいフレーズ：Taste (味わう)ファシリテーター：Yuto
URL:https://class-earth.com/event/%e3%80%90efe%e3%80%91%e5%88%9d%e7%b4%9a-food-agriculture-yuto-3/
CATEGORIES:Earth Saver Family English,オンラインイベント
END:VEVENT
BEGIN:VEVENT
DTSTART;TZID=Asia/Tokyo:20260426T103000
DTEND;TZID=Asia/Tokyo:20260426T110000
DTSTAMP:20260421T185221
CREATED:20260409T172014Z
LAST-MODIFIED:20260409T172014Z
UID:5407-1777199400-1777201200@class-earth.com
SUMMARY:【EFE】初級 / Circular Economy / Yuto
DESCRIPTION:レベル：初級カテゴリ：Circular Economyテーマ：Fix / なおすフレーズ：Fix (直す)ファシリテーター：Yuto
URL:https://class-earth.com/event/%e3%80%90efe%e3%80%91%e5%88%9d%e7%b4%9a-circular-economy-yuto/
CATEGORIES:Earth Saver Family English,オンラインイベント
END:VEVENT
BEGIN:VEVENT
DTSTART;TZID=Asia/Tokyo:20260426T113000
DTEND;TZID=Asia/Tokyo:20260426T120000
DTSTAMP:20260421T185221
CREATED:20260409T172028Z
LAST-MODIFIED:20260409T172028Z
UID:5409-1777203000-1777204800@class-earth.com
SUMMARY:【EFE】初級 / Water & Marine / Yuto
DESCRIPTION:レベル：初級カテゴリ：Water & Marineテーマ：Clean / きれいフレーズ：Wash (洗う)ファシリテーター：Yuto
URL:https://class-earth.com/event/%e3%80%90efe%e3%80%91%e5%88%9d%e7%b4%9a-water-marine-yuto/
CATEGORIES:Earth Saver Family English,オンラインイベント
END:VEVENT
BEGIN:VEVENT
DTSTART;TZID=Asia/Tokyo:20260426T133000
DTEND;TZID=Asia/Tokyo:20260426T140000
DTSTAMP:20260421T185221
CREATED:20260409T172043Z
LAST-MODIFIED:20260409T172043Z
UID:5413-1777210200-1777212000@class-earth.com
SUMMARY:【EFE】初級 / Nature & Biodiversity / Yuto
DESCRIPTION:レベル：初級カテゴリ：Nature & Biodiversityテーマ：Flower / はなフレーズ：Bloom (咲く)ファシリテーター：Yuto
URL:https://class-earth.com/event/%e3%80%90efe%e3%80%91%e5%88%9d%e7%b4%9a-nature-biodiversity-yuto-4/
CATEGORIES:Earth Saver Family English,オンラインイベント
END:VEVENT
BEGIN:VEVENT
DTSTART;TZID=Asia/Tokyo:20260426T153000
DTEND;TZID=Asia/Tokyo:20260426T160000
DTSTAMP:20260421T185221
CREATED:20260409T172044Z
LAST-MODIFIED:20260409T172044Z
UID:5417-1777217400-1777219200@class-earth.com
SUMMARY:【EFE】初級 / Water & Marine / Yuto
DESCRIPTION:レベル：初級カテゴリ：Water & Marineテーマ：Ice / こおりフレーズ：Freeze (凍る)ファシリテーター：Yuto
URL:https://class-earth.com/event/%e3%80%90efe%e3%80%91%e5%88%9d%e7%b4%9a-water-marine-yuto-2/
CATEGORIES:Earth Saver Family English,オンラインイベント
END:VEVENT
BEGIN:VEVENT
DTSTART;TZID=Asia/Tokyo:20260427T173000
DTEND;TZID=Asia/Tokyo:20260427T180000
DTSTAMP:20260421T185221
CREATED:20260409T172058Z
LAST-MODIFIED:20260409T172058Z
UID:5421-1777311000-1777312800@class-earth.com
SUMMARY:【EFE】初級 / Nature & Biodiversity / Kano
DESCRIPTION:レベル：初級カテゴリ：Nature & Biodiversityテーマ：Visit / 見学フレーズ：Watch (観る)ファシリテーター：Kano
URL:https://class-earth.com/event/%e3%80%90efe%e3%80%91%e5%88%9d%e7%b4%9a-nature-biodiversity-kano-4/
CATEGORIES:Earth Saver Family English,オンラインイベント
END:VEVENT
BEGIN:VEVENT
DTSTART;TZID=Asia/Tokyo:20260428T173000
DTEND;TZID=Asia/Tokyo:20260428T180000
DTSTAMP:20260421T185221
CREATED:20260409T172114Z
LAST-MODIFIED:20260409T172114Z
UID:5425-1777397400-1777399200@class-earth.com
SUMMARY:【EFE】初級 / Nature & Biodiversity / Tomoko＆Yuto
DESCRIPTION:レベル：初級カテゴリ：Nature & Biodiversityテーマ：National Parks / 国立公園フレーズ：Go（行く）ファシリテーター：Tomoko＆Yuto
URL:https://class-earth.com/event/%e3%80%90efe%e3%80%91%e5%88%9d%e7%b4%9a-nature-biodiversity-tomoko%ef%bc%86yuto-5/
CATEGORIES:Earth Saver Family English,オンラインイベント
END:VEVENT
BEGIN:VEVENT
DTSTART;TZID=Asia/Tokyo:20260429T170000
DTEND;TZID=Asia/Tokyo:20260429T173000
DTSTAMP:20260421T185221
CREATED:20260409T172128Z
LAST-MODIFIED:20260409T172128Z
UID:5428-1777482000-1777483800@class-earth.com
SUMMARY:【EFE】初級 / Food & Agriculture / Yuko＆Yuto
DESCRIPTION:レベル：初級カテゴリ：Food & Agricultureテーマ：Meat / 肉フレーズ：Eat(食べる）ファシリテーター：Yuko＆Yuto
URL:https://class-earth.com/event/%e3%80%90efe%e3%80%91%e5%88%9d%e7%b4%9a-food-agriculture-yuko%ef%bc%86yuto/
CATEGORIES:Earth Saver Family English,オンラインイベント
END:VEVENT
BEGIN:VEVENT
DTSTART;TZID=Asia/Tokyo:20260430T173000
DTEND;TZID=Asia/Tokyo:20260430T180000
DTSTAMP:20260421T185221
CREATED:20260409T172143Z
LAST-MODIFIED:20260409T172143Z
UID:5433-1777570200-1777572000@class-earth.com
SUMMARY:【EFE】初級 / Nature & Biodiversity / Mikey＆Yuto
DESCRIPTION:レベル：初級カテゴリ：Nature & Biodiversityテーマ：Insects / 虫フレーズ：catch（捕まえる）ファシリテーター：Mikey＆Yuto
URL:https://class-earth.com/event/%e3%80%90efe%e3%80%91%e5%88%9d%e7%b4%9a-nature-biodiversity-mikey%ef%bc%86yuto/
CATEGORIES:Earth Saver Family English,オンラインイベント
END:VEVENT
END:VCALENDAR