BEGIN:VCALENDAR
VERSION:2.0
PRODID:-//CLASS EARTH - ECPv6.15.16//NONSGML v1.0//EN
CALSCALE:GREGORIAN
METHOD:PUBLISH
X-WR-CALNAME:CLASS EARTH
X-ORIGINAL-URL:https://class-earth.com
X-WR-CALDESC:CLASS EARTH のイベント
REFRESH-INTERVAL;VALUE=DURATION:PT1H
X-Robots-Tag:noindex
X-PUBLISHED-TTL:PT1H
BEGIN:VTIMEZONE
TZID:Asia/Tokyo
BEGIN:STANDARD
TZOFFSETFROM:+0900
TZOFFSETTO:+0900
TZNAME:JST
DTSTART:20250101T000000
END:STANDARD
END:VTIMEZONE
BEGIN:VEVENT
DTSTART;TZID=Asia/Tokyo:20260326T170000
DTEND;TZID=Asia/Tokyo:20260326T173000
DTSTAMP:20260422T021106
CREATED:20260409T165347Z
LAST-MODIFIED:20260409T165347Z
UID:5220-1774544400-1774546200@class-earth.com
SUMMARY:【EFE】初級 / Water & Marine / Maiky
DESCRIPTION:レベル：初級カテゴリ：Water & Marineテーマ：Clean / きれいフレーズ：Wash (洗う)ファシリテーター：Maiky
URL:https://class-earth.com/event/%e3%80%90efe%e3%80%91%e5%88%9d%e7%b4%9a-water-marine-maiky-2/
CATEGORIES:Earth Saver Family English,オンラインイベント
END:VEVENT
BEGIN:VEVENT
DTSTART;TZID=Asia/Tokyo:20260325T173000
DTEND;TZID=Asia/Tokyo:20260325T180000
DTSTAMP:20260422T021106
CREATED:20260409T165332Z
LAST-MODIFIED:20260409T165332Z
UID:5217-1774459800-1774461600@class-earth.com
SUMMARY:【EFE】初級 / Circular Economy / Kano
DESCRIPTION:レベル：初級カテゴリ：Circular Economyテーマ：Fix / なおすフレーズ：Fix (直す)ファシリテーター：Kano
URL:https://class-earth.com/event/%e3%80%90efe%e3%80%91%e5%88%9d%e7%b4%9a-circular-economy-kano/
CATEGORIES:Earth Saver Family English,オンラインイベント
END:VEVENT
BEGIN:VEVENT
DTSTART;TZID=Asia/Tokyo:20260324T173000
DTEND;TZID=Asia/Tokyo:20260324T180000
DTSTAMP:20260422T021106
CREATED:20260409T165332Z
LAST-MODIFIED:20260409T165332Z
UID:5214-1774373400-1774375200@class-earth.com
SUMMARY:【EFE】初級 / Food & Agriculture / Waka
DESCRIPTION:レベル：初級カテゴリ：Food & Agricultureテーマ：Yummy / おいしいフレーズ：Taste (味わう)ファシリテーター：Waka
URL:https://class-earth.com/event/%e3%80%90efe%e3%80%91%e5%88%9d%e7%b4%9a-food-agriculture-waka/
CATEGORIES:Earth Saver Family English,オンラインイベント
END:VEVENT
BEGIN:VEVENT
DTSTART;TZID=Asia/Tokyo:20260323T170000
DTEND;TZID=Asia/Tokyo:20260323T173000
DTSTAMP:20260422T021106
CREATED:20260409T165226Z
LAST-MODIFIED:20260409T165226Z
UID:5209-1774285200-1774287000@class-earth.com
SUMMARY:【EFE】初級 / Nature & Biodiversity / Kano
DESCRIPTION:レベル：初級カテゴリ：Nature & Biodiversityテーマ：Leaf / はっぱフレーズ：Grow (育つ)ファシリテーター：Kano
URL:https://class-earth.com/event/%e3%80%90efe%e3%80%91%e5%88%9d%e7%b4%9a-nature-biodiversity-kano/
CATEGORIES:Earth Saver Family English,オンラインイベント
END:VEVENT
BEGIN:VEVENT
DTSTART;TZID=Asia/Tokyo:20260319T180000
DTEND;TZID=Asia/Tokyo:20260319T183000
DTSTAMP:20260422T021106
CREATED:20260409T165211Z
LAST-MODIFIED:20260409T165211Z
UID:5207-1773943200-1773945000@class-earth.com
SUMMARY:【EFE】初級 / Nature & Biodiversity / Yuka
DESCRIPTION:レベル：初級カテゴリ：Nature & Biodiversityテーマ：Pet  /  ペットフレーズ：Love (愛する)ファシリテーター：Yuka
URL:https://class-earth.com/event/%e3%80%90efe%e3%80%91%e5%88%9d%e7%b4%9a-nature-biodiversity-yuka-2/
CATEGORIES:Earth Saver Family English,オンラインイベント
END:VEVENT
BEGIN:VEVENT
DTSTART;TZID=Asia/Tokyo:20260318T180000
DTEND;TZID=Asia/Tokyo:20260318T183000
DTSTAMP:20260422T021106
CREATED:20260409T165211Z
LAST-MODIFIED:20260409T165211Z
UID:5203-1773856800-1773858600@class-earth.com
SUMMARY:【EFE】初級 / Nature & Biodiversity / Yuka
DESCRIPTION:レベル：初級カテゴリ：Nature & Biodiversityテーマ：Mountain / やまフレーズ：Climb (登る)ファシリテーター：Yuka
URL:https://class-earth.com/event/%e3%80%90efe%e3%80%91%e5%88%9d%e7%b4%9a-nature-biodiversity-yuka/
CATEGORIES:Earth Saver Family English,オンラインイベント
END:VEVENT
BEGIN:VEVENT
DTSTART;TZID=Asia/Tokyo:20260318T170000
DTEND;TZID=Asia/Tokyo:20260318T173000
DTSTAMP:20260422T021106
CREATED:20260409T165156Z
LAST-MODIFIED:20260409T165156Z
UID:5201-1773853200-1773855000@class-earth.com
SUMMARY:【EFE】初級 / Water & Marine / Maiky
DESCRIPTION:レベル：初級カテゴリ：Water & Marineテーマ：Sea / うみフレーズ：Swim (泳ぐ)ファシリテーター：Maiky
URL:https://class-earth.com/event/%e3%80%90efe%e3%80%91%e5%88%9d%e7%b4%9a-water-marine-maiky/
CATEGORIES:Earth Saver Family English,オンラインイベント
END:VEVENT
BEGIN:VEVENT
DTSTART;TZID=Asia/Tokyo:20260317T173000
DTEND;TZID=Asia/Tokyo:20260317T180000
DTSTAMP:20260422T021106
CREATED:20260409T165156Z
LAST-MODIFIED:20260409T165156Z
UID:5198-1773768600-1773770400@class-earth.com
SUMMARY:【EFE】初級 / Circular Economy / Yuka
DESCRIPTION:レベル：初級カテゴリ：Circular Economyテーマ：Share / わけるフレーズ：Divide (分ける)ファシリテーター：Yuka
URL:https://class-earth.com/event/%e3%80%90efe%e3%80%91%e5%88%9d%e7%b4%9a-circular-economy-yuka/
CATEGORIES:Earth Saver Family English,オンラインイベント
END:VEVENT
BEGIN:VEVENT
DTSTART;TZID=Asia/Tokyo:20260316T183000
DTEND;TZID=Asia/Tokyo:20260316T190000
DTSTAMP:20260422T021106
CREATED:20260409T165141Z
LAST-MODIFIED:20260409T165141Z
UID:5196-1773685800-1773687600@class-earth.com
SUMMARY:【EFE】初級 / Climate / Yuka
DESCRIPTION:レベル：初級カテゴリ：Climateテーマ：Snow / ゆきフレーズ：Fall (降る)ファシリテーター：Yuka
URL:https://class-earth.com/event/%e3%80%90efe%e3%80%91%e5%88%9d%e7%b4%9a-climate-yuka-2/
CATEGORIES:Earth Saver Family English,オンラインイベント
END:VEVENT
BEGIN:VEVENT
DTSTART;TZID=Asia/Tokyo:20260313T183000
DTEND;TZID=Asia/Tokyo:20260313T190000
DTSTAMP:20260422T021106
CREATED:20260409T164958Z
LAST-MODIFIED:20260409T164958Z
UID:5192-1773426600-1773428400@class-earth.com
SUMMARY:【EFE】初級 / Climate / Yuka
DESCRIPTION:レベル：初級カテゴリ：Climateテーマ：Warming / 温暖化フレーズ：Melt (溶ける)ファシリテーター：Yuka
URL:https://class-earth.com/event/%e3%80%90efe%e3%80%91%e5%88%9d%e7%b4%9a-climate-yuka/
CATEGORIES:Earth Saver Family English,オンラインイベント
END:VEVENT
BEGIN:VEVENT
DTSTART;TZID=Asia/Tokyo:20260313T170000
DTEND;TZID=Asia/Tokyo:20260313T173000
DTSTAMP:20260422T021106
CREATED:20260409T164958Z
LAST-MODIFIED:20260409T164958Z
UID:5189-1773421200-1773423000@class-earth.com
SUMMARY:【EFE】初級 / Water & Marine / Yuka
DESCRIPTION:レベル：初級カテゴリ：Water & Marineテーマ：Coral / サンゴフレーズ：Live (住む / 生きる)ファシリテーター：Yuka
URL:https://class-earth.com/event/%e3%80%90efe%e3%80%91%e5%88%9d%e7%b4%9a-water-marine-yuka/
CATEGORIES:Earth Saver Family English,オンラインイベント
END:VEVENT
BEGIN:VEVENT
DTSTART;TZID=Asia/Tokyo:20260312T180000
DTEND;TZID=Asia/Tokyo:20260312T183000
DTSTAMP:20260422T021106
CREATED:20260409T164943Z
LAST-MODIFIED:20260409T164943Z
UID:5187-1773338400-1773340200@class-earth.com
SUMMARY:【EFE】初級 / Nature & Biodiversity / Maiky
DESCRIPTION:レベル：初級カテゴリ：Nature & Biodiversityテーマ：Invasive / 外来種フレーズ：Move (動く / 移動する)ファシリテーター：Maiky
URL:https://class-earth.com/event/%e3%80%90efe%e3%80%91%e5%88%9d%e7%b4%9a-nature-biodiversity-maiky-3/
CATEGORIES:Earth Saver Family English,オンラインイベント
END:VEVENT
BEGIN:VEVENT
DTSTART;TZID=Asia/Tokyo:20260311T173000
DTEND;TZID=Asia/Tokyo:20260311T180000
DTSTAMP:20260422T021106
CREATED:20260409T164927Z
LAST-MODIFIED:20260409T164927Z
UID:5182-1773250200-1773252000@class-earth.com
SUMMARY:【EFE】初級 / Food & Agriculture / Yura
DESCRIPTION:レベル：初級カテゴリ：Food & Agricultureテーマ：Vegan / ヴィーガンフレーズ：Eat (食べる)ファシリテーター：Yura
URL:https://class-earth.com/event/%e3%80%90efe%e3%80%91%e5%88%9d%e7%b4%9a-food-agriculture-yura/
CATEGORIES:Earth Saver Family English,オンラインイベント
END:VEVENT
BEGIN:VEVENT
DTSTART;TZID=Asia/Tokyo:20260310T180000
DTEND;TZID=Asia/Tokyo:20260310T183000
DTSTAMP:20260422T021106
CREATED:20260409T164927Z
LAST-MODIFIED:20260409T164927Z
UID:5179-1773165600-1773167400@class-earth.com
SUMMARY:【EFE】初級 / Nature & Biodiversity / Maiky
DESCRIPTION:レベル：初級カテゴリ：Nature & Biodiversityテーマ：parkフレーズ：playファシリテーター：Maiky
URL:https://class-earth.com/event/%e3%80%90efe%e3%80%91%e5%88%9d%e7%b4%9a-nature-biodiversity-maiky-2/
CATEGORIES:Earth Saver Family English,オンラインイベント
END:VEVENT
BEGIN:VEVENT
DTSTART;TZID=Asia/Tokyo:20260310T170000
DTEND;TZID=Asia/Tokyo:20260310T173000
DTSTAMP:20260422T021106
CREATED:20260409T164927Z
LAST-MODIFIED:20260409T164927Z
UID:5177-1773162000-1773163800@class-earth.com
SUMMARY:【EFE】初級 / Nature & Biodiversity / Maiky
DESCRIPTION:レベル：初級カテゴリ：Nature & Biodiversityテーマ：Plantsフレーズ：waterファシリテーター：Maiky
URL:https://class-earth.com/event/%e3%80%90efe%e3%80%91%e5%88%9d%e7%b4%9a-nature-biodiversity-maiky/
CATEGORIES:Earth Saver Family English,オンラインイベント
END:VEVENT
BEGIN:VEVENT
DTSTART;TZID=Asia/Tokyo:20260309T173000
DTEND;TZID=Asia/Tokyo:20260309T180000
DTSTAMP:20260422T021106
CREATED:20260409T164926Z
LAST-MODIFIED:20260409T164926Z
UID:5174-1773077400-1773079200@class-earth.com
SUMMARY:【EFE】初級 / Food & Agriculture / Kano
DESCRIPTION:レベル：初級カテゴリ：Food & Agricultureテーマ：riceフレーズ：farmファシリテーター：Kano
URL:https://class-earth.com/event/%e3%80%90efe%e3%80%91%e5%88%9d%e7%b4%9a-food-agriculture-kano/
CATEGORIES:Earth Saver Family English,オンラインイベント
END:VEVENT
END:VCALENDAR