BEGIN:VCALENDAR
VERSION:2.0
PRODID:-//CLASS EARTH - ECPv6.15.16//NONSGML v1.0//EN
CALSCALE:GREGORIAN
METHOD:PUBLISH
X-WR-CALNAME:CLASS EARTH
X-ORIGINAL-URL:https://class-earth.com
X-WR-CALDESC:CLASS EARTH のイベント
REFRESH-INTERVAL;VALUE=DURATION:PT1H
X-Robots-Tag:noindex
X-PUBLISHED-TTL:PT1H
BEGIN:VTIMEZONE
TZID:Asia/Tokyo
BEGIN:STANDARD
TZOFFSETFROM:+0900
TZOFFSETTO:+0900
TZNAME:JST
DTSTART:20250101T000000
END:STANDARD
END:VTIMEZONE
BEGIN:VEVENT
DTSTART;TZID=Asia/Tokyo:20260411T120000
DTEND;TZID=Asia/Tokyo:20260411T123000
DTSTAMP:20260421T232301
CREATED:20260409T171458Z
LAST-MODIFIED:20260409T171458Z
UID:5300-1775908800-1775910600@class-earth.com
SUMMARY:【EFE】初級 / Food & Agriculture / Yuika＆Yuto
DESCRIPTION:レベル：初級カテゴリ：Food & Agricultureテーマ：riceフレーズ：farmファシリテーター：Yuika＆Yuto
URL:https://class-earth.com/event/%e3%80%90efe%e3%80%91%e5%88%9d%e7%b4%9a-food-agriculture-yuika%ef%bc%86yuto/
CATEGORIES:Earth Saver Family English,オンラインイベント
END:VEVENT
BEGIN:VEVENT
DTSTART;TZID=Asia/Tokyo:20260410T183000
DTEND;TZID=Asia/Tokyo:20260410T190000
DTSTAMP:20260421T232301
CREATED:20260409T171443Z
LAST-MODIFIED:20260409T171443Z
UID:5295-1775845800-1775847600@class-earth.com
SUMMARY:【EFE】初級 / Nature & Biodiversity / Tomoko＆Yuto
DESCRIPTION:レベル：初級カテゴリ：Nature & Biodiversityテーマ：Birds / とりフレーズ：Fly (飛ぶ)ファシリテーター：Tomoko＆Yuto
URL:https://class-earth.com/event/%e3%80%90efe%e3%80%91%e5%88%9d%e7%b4%9a-nature-biodiversity-tomoko%ef%bc%86yuto-2/
CATEGORIES:Earth Saver Family English,オンラインイベント
END:VEVENT
BEGIN:VEVENT
DTSTART;TZID=Asia/Tokyo:20260409T180000
DTEND;TZID=Asia/Tokyo:20260409T183000
DTSTAMP:20260421T232301
CREATED:20260409T171428Z
LAST-MODIFIED:20260409T171428Z
UID:5290-1775757600-1775759400@class-earth.com
SUMMARY:【EFE】初級 / Food & Agriculture / Nao&Yuto
DESCRIPTION:レベル：初級カテゴリ：Food & Agricultureテーマ：Market / いちばフレーズ：Buy (買う)ファシリテーター：Nao&Yuto
URL:https://class-earth.com/event/%e3%80%90efe%e3%80%91%e5%88%9d%e7%b4%9a-food-agriculture-naoyuto/
CATEGORIES:Earth Saver Family English,オンラインイベント
END:VEVENT
BEGIN:VEVENT
DTSTART;TZID=Asia/Tokyo:20260408T183000
DTEND;TZID=Asia/Tokyo:20260408T190000
DTSTAMP:20260421T232301
CREATED:20260409T171413Z
LAST-MODIFIED:20260409T171413Z
UID:5287-1775673000-1775674800@class-earth.com
SUMMARY:【EFE】初級 / Nature & Biodiversity / Tomoko
DESCRIPTION:レベル：初級カテゴリ：Nature & Biodiversityテーマ：Flower / はなフレーズ：Bloom (咲く)ファシリテーター：Tomoko
URL:https://class-earth.com/event/%e3%80%90efe%e3%80%91%e5%88%9d%e7%b4%9a-nature-biodiversity-tomoko-2/
CATEGORIES:Earth Saver Family English,オンラインイベント
END:VEVENT
BEGIN:VEVENT
DTSTART;TZID=Asia/Tokyo:20260407T183000
DTEND;TZID=Asia/Tokyo:20260407T190000
DTSTAMP:20260421T232301
CREATED:20260409T171413Z
LAST-MODIFIED:20260409T171413Z
UID:5283-1775586600-1775588400@class-earth.com
SUMMARY:【EFE】初級 / Water & Marine / Yuto＆Mikey
DESCRIPTION:レベル：初級カテゴリ：Water & Marineテーマ：Clean / きれいフレーズ：Wash (洗う)ファシリテーター：Yuto＆Mikey
URL:https://class-earth.com/event/%e3%80%90efe%e3%80%91%e5%88%9d%e7%b4%9a-water-marine-yuto%ef%bc%86mikey/
CATEGORIES:Earth Saver Family English,オンラインイベント
END:VEVENT
BEGIN:VEVENT
DTSTART;TZID=Asia/Tokyo:20260407T170000
DTEND;TZID=Asia/Tokyo:20260407T173000
DTSTAMP:20260421T232301
CREATED:20260409T171358Z
LAST-MODIFIED:20260409T171358Z
UID:5280-1775581200-1775583000@class-earth.com
SUMMARY:【EFE】初級 / Circular Economy / Nao&Yuto
DESCRIPTION:レベル：初級カテゴリ：Circular Economyテーマ：Fix / なおすフレーズ：Fix (直す)ファシリテーター：Nao&Yuto
URL:https://class-earth.com/event/%e3%80%90efe%e3%80%91%e5%88%9d%e7%b4%9a-circular-economy-naoyuto/
CATEGORIES:Earth Saver Family English,オンラインイベント
END:VEVENT
BEGIN:VEVENT
DTSTART;TZID=Asia/Tokyo:20260406T173000
DTEND;TZID=Asia/Tokyo:20260406T180000
DTSTAMP:20260421T232301
CREATED:20260409T171344Z
LAST-MODIFIED:20260409T171344Z
UID:5277-1775496600-1775498400@class-earth.com
SUMMARY:【EFE】初級 / Food & Agriculture / Yuto
DESCRIPTION:レベル：初級カテゴリ：Food & Agricultureテーマ：Yummy / おいしいフレーズ：Taste (味わう)ファシリテーター：Yuto
URL:https://class-earth.com/event/%e3%80%90efe%e3%80%91%e5%88%9d%e7%b4%9a-food-agriculture-yuto/
CATEGORIES:Earth Saver Family English,オンラインイベント
END:VEVENT
BEGIN:VEVENT
DTSTART;TZID=Asia/Tokyo:20260405T150000
DTEND;TZID=Asia/Tokyo:20260405T153000
DTSTAMP:20260421T232301
CREATED:20260409T171329Z
LAST-MODIFIED:20260409T171329Z
UID:5272-1775401200-1775403000@class-earth.com
SUMMARY:【EFE】初級 / Nature & Biodiversity / Tomoko＆Yuto
DESCRIPTION:レベル：初級カテゴリ：Nature & Biodiversityテーマ：Leaf / はっぱフレーズ：Grow (育つ)ファシリテーター：Tomoko＆Yuto
URL:https://class-earth.com/event/%e3%80%90efe%e3%80%91%e5%88%9d%e7%b4%9a-nature-biodiversity-tomoko%ef%bc%86yuto/
CATEGORIES:Earth Saver Family English,オンラインイベント
END:VEVENT
BEGIN:VEVENT
DTSTART;TZID=Asia/Tokyo:20260405T140000
DTEND;TZID=Asia/Tokyo:20260405T143000
DTSTAMP:20260421T232301
CREATED:20260409T171328Z
LAST-MODIFIED:20260409T171328Z
UID:5270-1775397600-1775399400@class-earth.com
SUMMARY:【EFE】初級 / Nature & Biodiversity / Yuto＆Rina
DESCRIPTION:レベル：初級カテゴリ：Nature & Biodiversityテーマ：Pet  /  ペットフレーズ：Love (愛する)ファシリテーター：Yuto＆Rina
URL:https://class-earth.com/event/%e3%80%90efe%e3%80%91%e5%88%9d%e7%b4%9a-nature-biodiversity-yuto%ef%bc%86rina/
CATEGORIES:Earth Saver Family English,オンラインイベント
END:VEVENT
BEGIN:VEVENT
DTSTART;TZID=Asia/Tokyo:20260405T110000
DTEND;TZID=Asia/Tokyo:20260405T113000
DTSTAMP:20260421T232301
CREATED:20260409T171326Z
LAST-MODIFIED:20260409T171326Z
UID:5264-1775386800-1775388600@class-earth.com
SUMMARY:【EFE】初級 / Water & Marine / Tomoko
DESCRIPTION:レベル：初級カテゴリ：Water & Marineテーマ：Sea / うみフレーズ：Swim (泳ぐ)ファシリテーター：Tomoko
URL:https://class-earth.com/event/%e3%80%90efe%e3%80%91%e5%88%9d%e7%b4%9a-water-marine-tomoko/
CATEGORIES:Earth Saver Family English,オンラインイベント
END:VEVENT
BEGIN:VEVENT
DTSTART;TZID=Asia/Tokyo:20260404T163000
DTEND;TZID=Asia/Tokyo:20260404T170000
DTSTAMP:20260421T232301
CREATED:20260409T170621Z
LAST-MODIFIED:20260409T170621Z
UID:5261-1775320200-1775322000@class-earth.com
SUMMARY:【EFE】初級 / Circular Economy / Rina＆Yuto
DESCRIPTION:レベル：初級カテゴリ：Circular Economyテーマ：Share / わけるフレーズ：Divide (分ける)ファシリテーター：Rina＆Yuto
URL:https://class-earth.com/event/%e3%80%90efe%e3%80%91%e5%88%9d%e7%b4%9a-circular-economy-rina%ef%bc%86yuto/
CATEGORIES:Earth Saver Family English,オンラインイベント
END:VEVENT
BEGIN:VEVENT
DTSTART;TZID=Asia/Tokyo:20260404T153000
DTEND;TZID=Asia/Tokyo:20260404T160000
DTSTAMP:20260421T232301
CREATED:20260409T170621Z
LAST-MODIFIED:20260409T170621Z
UID:5259-1775316600-1775318400@class-earth.com
SUMMARY:【EFE】初級 / Climate / Yuka＆Yuto
DESCRIPTION:レベル：初級カテゴリ：Climateテーマ：Snow / ゆきフレーズ：Fall (降る)ファシリテーター：Yuka＆Yuto
URL:https://class-earth.com/event/%e3%80%90efe%e3%80%91%e5%88%9d%e7%b4%9a-climate-yuka%ef%bc%86yuto/
CATEGORIES:Earth Saver Family English,オンラインイベント
END:VEVENT
BEGIN:VEVENT
DTSTART;TZID=Asia/Tokyo:20260404T133000
DTEND;TZID=Asia/Tokyo:20260404T140000
DTSTAMP:20260421T232301
CREATED:20260409T170421Z
LAST-MODIFIED:20260409T170421Z
UID:5255-1775309400-1775311200@class-earth.com
SUMMARY:【EFE】初級 / Nature & Biodiversity / Yuka
DESCRIPTION:レベル：初級カテゴリ：Nature & Biodiversityテーマ：Forest（森）フレーズ：Walk （歩く）ファシリテーター：Yuka
URL:https://class-earth.com/event/%e3%80%90efe%e3%80%91%e5%88%9d%e7%b4%9a-nature-biodiversity-yuka-3/
CATEGORIES:Earth Saver Family English,オンラインイベント
END:VEVENT
BEGIN:VEVENT
DTSTART;TZID=Asia/Tokyo:20260404T120000
DTEND;TZID=Asia/Tokyo:20260404T123000
DTSTAMP:20260421T232301
CREATED:20260409T170249Z
LAST-MODIFIED:20260409T170249Z
UID:5252-1775304000-1775305800@class-earth.com
SUMMARY:【EFE】初級 / Water & Marine / Yuika
DESCRIPTION:レベル：初級カテゴリ：Water & Marineテーマ：Coral / サンゴフレーズ：Live (住む / 生きる)ファシリテーター：Yuika
URL:https://class-earth.com/event/%e3%80%90efe%e3%80%91%e5%88%9d%e7%b4%9a-water-marine-yuika-2/
CATEGORIES:Earth Saver Family English,オンラインイベント
END:VEVENT
BEGIN:VEVENT
DTSTART;TZID=Asia/Tokyo:20260404T110000
DTEND;TZID=Asia/Tokyo:20260404T113000
DTSTAMP:20260421T232301
CREATED:20260409T170249Z
LAST-MODIFIED:20260409T170249Z
UID:5250-1775300400-1775302200@class-earth.com
SUMMARY:【EFE】初級 / Nature & Biodiversity / Yuko＆Yuto
DESCRIPTION:レベル：初級カテゴリ：Nature & Biodiversityテーマ：Invasive / 外来種フレーズ：Move (動く / 移動する)ファシリテーター：Yuko＆Yuto
URL:https://class-earth.com/event/%e3%80%90efe%e3%80%91%e5%88%9d%e7%b4%9a-nature-biodiversity-yuko%ef%bc%86yuto/
CATEGORIES:Earth Saver Family English,オンラインイベント
END:VEVENT
BEGIN:VEVENT
DTSTART;TZID=Asia/Tokyo:20260403T173000
DTEND;TZID=Asia/Tokyo:20260403T180000
DTSTAMP:20260421T232301
CREATED:20260409T170049Z
LAST-MODIFIED:20260409T170049Z
UID:5245-1775237400-1775239200@class-earth.com
SUMMARY:【EFE】初級 / Food & Agriculture / Yuika
DESCRIPTION:レベル：初級カテゴリ：Food & Agricultureテーマ：Vegan / ヴィーガンフレーズ：Eat (食べる)ファシリテーター：Yuika
URL:https://class-earth.com/event/%e3%80%90efe%e3%80%91%e5%88%9d%e7%b4%9a-food-agriculture-yuika/
CATEGORIES:Earth Saver Family English,オンラインイベント
END:VEVENT
BEGIN:VEVENT
DTSTART;TZID=Asia/Tokyo:20260402T180000
DTEND;TZID=Asia/Tokyo:20260402T183000
DTSTAMP:20260421T232301
CREATED:20260409T165849Z
LAST-MODIFIED:20260409T165849Z
UID:5242-1775152800-1775154600@class-earth.com
SUMMARY:【EFE】初級 / Nature & Biodiversity / Tomoko
DESCRIPTION:レベル：初級カテゴリ：Nature & Biodiversityテーマ：parkフレーズ：playファシリテーター：Tomoko
URL:https://class-earth.com/event/%e3%80%90efe%e3%80%91%e5%88%9d%e7%b4%9a-nature-biodiversity-tomoko/
CATEGORIES:Earth Saver Family English,オンラインイベント
END:VEVENT
BEGIN:VEVENT
DTSTART;TZID=Asia/Tokyo:20260402T170000
DTEND;TZID=Asia/Tokyo:20260402T173000
DTSTAMP:20260421T232301
CREATED:20260409T165849Z
LAST-MODIFIED:20260409T165849Z
UID:5240-1775149200-1775151000@class-earth.com
SUMMARY:【EFE】初級 / Nature & Biodiversity / Tomoko&Rina
DESCRIPTION:レベル：初級カテゴリ：Nature & Biodiversityテーマ：Plantsフレーズ：waterファシリテーター：Tomoko&Rina
URL:https://class-earth.com/event/%e3%80%90efe%e3%80%91%e5%88%9d%e7%b4%9a-nature-biodiversity-tomokorina/
CATEGORIES:Earth Saver Family English,オンラインイベント
END:VEVENT
BEGIN:VEVENT
DTSTART;TZID=Asia/Tokyo:20260401T173000
DTEND;TZID=Asia/Tokyo:20260401T180000
DTSTAMP:20260421T232301
CREATED:20260409T165649Z
LAST-MODIFIED:20260409T165649Z
UID:5237-1775064600-1775066400@class-earth.com
SUMMARY:【EFE】初級 / Food & Agriculture / Yuko
DESCRIPTION:レベル：初級カテゴリ：Food & Agricultureテーマ：riceフレーズ：farmファシリテーター：Yuko
URL:https://class-earth.com/event/%e3%80%90efe%e3%80%91%e5%88%9d%e7%b4%9a-food-agriculture-yuko/
CATEGORIES:Earth Saver Family English,オンラインイベント
END:VEVENT
BEGIN:VEVENT
DTSTART;TZID=Asia/Tokyo:20260331T170000
DTEND;TZID=Asia/Tokyo:20260331T173000
DTSTAMP:20260421T232301
CREATED:20260409T165449Z
LAST-MODIFIED:20260409T165449Z
UID:5232-1774976400-1774978200@class-earth.com
SUMMARY:【EFE】初級 / Nature & Biodiversity / Yura
DESCRIPTION:レベル：初級カテゴリ：Nature & Biodiversityテーマ：Birds / とりフレーズ：Fly (飛ぶ)ファシリテーター：Yura
URL:https://class-earth.com/event/%e3%80%90efe%e3%80%91%e5%88%9d%e7%b4%9a-nature-biodiversity-yura/
CATEGORIES:Earth Saver Family English,オンラインイベント
END:VEVENT
BEGIN:VEVENT
DTSTART;TZID=Asia/Tokyo:20260330T183000
DTEND;TZID=Asia/Tokyo:20260330T190000
DTSTAMP:20260421T232301
CREATED:20260409T165449Z
LAST-MODIFIED:20260409T165449Z
UID:5231-1774895400-1774897200@class-earth.com
SUMMARY:【EFE】初級 / Climate / Kano
DESCRIPTION:レベル：初級カテゴリ：Climateテーマ：Cold / さむいフレーズ：Shiver (ふるえる)ファシリテーター：Kano
URL:https://class-earth.com/event/%e3%80%90efe%e3%80%91%e5%88%9d%e7%b4%9a-climate-kano/
CATEGORIES:Earth Saver Family English,オンラインイベント
END:VEVENT
BEGIN:VEVENT
DTSTART;TZID=Asia/Tokyo:20260330T170000
DTEND;TZID=Asia/Tokyo:20260330T173000
DTSTAMP:20260421T232301
CREATED:20260409T165449Z
LAST-MODIFIED:20260409T165449Z
UID:5228-1774890000-1774891800@class-earth.com
SUMMARY:【EFE】初級 / Water & Marine / Yuika
DESCRIPTION:レベル：初級カテゴリ：Water & Marineテーマ：Ice / こおりフレーズ：Freeze (凍る)ファシリテーター：Yuika
URL:https://class-earth.com/event/%e3%80%90efe%e3%80%91%e5%88%9d%e7%b4%9a-water-marine-yuika/
CATEGORIES:Earth Saver Family English,オンラインイベント
END:VEVENT
BEGIN:VEVENT
DTSTART;TZID=Asia/Tokyo:20260327T183000
DTEND;TZID=Asia/Tokyo:20260327T190000
DTSTAMP:20260421T232301
CREATED:20260409T165434Z
LAST-MODIFIED:20260409T165434Z
UID:5227-1774636200-1774638000@class-earth.com
SUMMARY:【EFE】初級 / Food & Agriculture / Rina
DESCRIPTION:レベル：初級カテゴリ：Food & Agricultureテーマ：Market / いちばフレーズ：Buy (買う)ファシリテーター：Rina
URL:https://class-earth.com/event/%e3%80%90efe%e3%80%91%e5%88%9d%e7%b4%9a-food-agriculture-rina/
CATEGORIES:Earth Saver Family English,オンラインイベント
END:VEVENT
BEGIN:VEVENT
DTSTART;TZID=Asia/Tokyo:20260327T170000
DTEND;TZID=Asia/Tokyo:20260327T173000
DTSTAMP:20260421T232301
CREATED:20260409T165434Z
LAST-MODIFIED:20260409T165434Z
UID:5224-1774630800-1774632600@class-earth.com
SUMMARY:【EFE】初級 / Nature & Biodiversity / Maiky
DESCRIPTION:レベル：初級カテゴリ：Nature & Biodiversityテーマ：Flower / はなフレーズ：Bloom (咲く)ファシリテーター：Maiky
URL:https://class-earth.com/event/%e3%80%90efe%e3%80%91%e5%88%9d%e7%b4%9a-nature-biodiversity-maiky-4/
CATEGORIES:Earth Saver Family English,オンラインイベント
END:VEVENT
BEGIN:VEVENT
DTSTART;TZID=Asia/Tokyo:20260326T170000
DTEND;TZID=Asia/Tokyo:20260326T173000
DTSTAMP:20260421T232301
CREATED:20260409T165347Z
LAST-MODIFIED:20260409T165347Z
UID:5220-1774544400-1774546200@class-earth.com
SUMMARY:【EFE】初級 / Water & Marine / Maiky
DESCRIPTION:レベル：初級カテゴリ：Water & Marineテーマ：Clean / きれいフレーズ：Wash (洗う)ファシリテーター：Maiky
URL:https://class-earth.com/event/%e3%80%90efe%e3%80%91%e5%88%9d%e7%b4%9a-water-marine-maiky-2/
CATEGORIES:Earth Saver Family English,オンラインイベント
END:VEVENT
BEGIN:VEVENT
DTSTART;TZID=Asia/Tokyo:20260325T173000
DTEND;TZID=Asia/Tokyo:20260325T180000
DTSTAMP:20260421T232301
CREATED:20260409T165332Z
LAST-MODIFIED:20260409T165332Z
UID:5217-1774459800-1774461600@class-earth.com
SUMMARY:【EFE】初級 / Circular Economy / Kano
DESCRIPTION:レベル：初級カテゴリ：Circular Economyテーマ：Fix / なおすフレーズ：Fix (直す)ファシリテーター：Kano
URL:https://class-earth.com/event/%e3%80%90efe%e3%80%91%e5%88%9d%e7%b4%9a-circular-economy-kano/
CATEGORIES:Earth Saver Family English,オンラインイベント
END:VEVENT
BEGIN:VEVENT
DTSTART;TZID=Asia/Tokyo:20260324T173000
DTEND;TZID=Asia/Tokyo:20260324T180000
DTSTAMP:20260421T232301
CREATED:20260409T165332Z
LAST-MODIFIED:20260409T165332Z
UID:5214-1774373400-1774375200@class-earth.com
SUMMARY:【EFE】初級 / Food & Agriculture / Waka
DESCRIPTION:レベル：初級カテゴリ：Food & Agricultureテーマ：Yummy / おいしいフレーズ：Taste (味わう)ファシリテーター：Waka
URL:https://class-earth.com/event/%e3%80%90efe%e3%80%91%e5%88%9d%e7%b4%9a-food-agriculture-waka/
CATEGORIES:Earth Saver Family English,オンラインイベント
END:VEVENT
BEGIN:VEVENT
DTSTART;TZID=Asia/Tokyo:20260323T170000
DTEND;TZID=Asia/Tokyo:20260323T173000
DTSTAMP:20260421T232301
CREATED:20260409T165226Z
LAST-MODIFIED:20260409T165226Z
UID:5209-1774285200-1774287000@class-earth.com
SUMMARY:【EFE】初級 / Nature & Biodiversity / Kano
DESCRIPTION:レベル：初級カテゴリ：Nature & Biodiversityテーマ：Leaf / はっぱフレーズ：Grow (育つ)ファシリテーター：Kano
URL:https://class-earth.com/event/%e3%80%90efe%e3%80%91%e5%88%9d%e7%b4%9a-nature-biodiversity-kano/
CATEGORIES:Earth Saver Family English,オンラインイベント
END:VEVENT
BEGIN:VEVENT
DTSTART;TZID=Asia/Tokyo:20260319T180000
DTEND;TZID=Asia/Tokyo:20260319T183000
DTSTAMP:20260421T232301
CREATED:20260409T165211Z
LAST-MODIFIED:20260409T165211Z
UID:5207-1773943200-1773945000@class-earth.com
SUMMARY:【EFE】初級 / Nature & Biodiversity / Yuka
DESCRIPTION:レベル：初級カテゴリ：Nature & Biodiversityテーマ：Pet  /  ペットフレーズ：Love (愛する)ファシリテーター：Yuka
URL:https://class-earth.com/event/%e3%80%90efe%e3%80%91%e5%88%9d%e7%b4%9a-nature-biodiversity-yuka-2/
CATEGORIES:Earth Saver Family English,オンラインイベント
END:VEVENT
BEGIN:VEVENT
DTSTART;TZID=Asia/Tokyo:20260318T180000
DTEND;TZID=Asia/Tokyo:20260318T183000
DTSTAMP:20260421T232301
CREATED:20260409T165211Z
LAST-MODIFIED:20260409T165211Z
UID:5203-1773856800-1773858600@class-earth.com
SUMMARY:【EFE】初級 / Nature & Biodiversity / Yuka
DESCRIPTION:レベル：初級カテゴリ：Nature & Biodiversityテーマ：Mountain / やまフレーズ：Climb (登る)ファシリテーター：Yuka
URL:https://class-earth.com/event/%e3%80%90efe%e3%80%91%e5%88%9d%e7%b4%9a-nature-biodiversity-yuka/
CATEGORIES:Earth Saver Family English,オンラインイベント
END:VEVENT
END:VCALENDAR