BEGIN:VCALENDAR
VERSION:2.0
PRODID:-//CLASS EARTH - ECPv6.15.16//NONSGML v1.0//EN
CALSCALE:GREGORIAN
METHOD:PUBLISH
X-WR-CALNAME:CLASS EARTH
X-ORIGINAL-URL:https://class-earth.com
X-WR-CALDESC:CLASS EARTH のイベント
REFRESH-INTERVAL;VALUE=DURATION:PT1H
X-Robots-Tag:noindex
X-PUBLISHED-TTL:PT1H
BEGIN:VTIMEZONE
TZID:Asia/Tokyo
BEGIN:STANDARD
TZOFFSETFROM:+0900
TZOFFSETTO:+0900
TZNAME:JST
DTSTART:20250101T000000
END:STANDARD
END:VTIMEZONE
BEGIN:VEVENT
DTSTART;TZID=Asia/Tokyo:20260323T180000
DTEND;TZID=Asia/Tokyo:20260323T183000
DTSTAMP:20260422T110818
CREATED:20260409T165226Z
LAST-MODIFIED:20260409T165226Z
UID:5211-1774288800-1774290600@class-earth.com
SUMMARY:【EFE】中級 / Nature & Biodiversity / Kano
DESCRIPTION:レベル：中級カテゴリ：Nature & Biodiversityテーマ：Ecosystem / 生態系フレーズ：Stay safe (無事でいる)ファシリテーター：Kano
URL:https://class-earth.com/event/%e3%80%90efe%e3%80%91%e4%b8%ad%e7%b4%9a-nature-biodiversity-kano-2/
CATEGORIES:Earth Saver Family English,オンラインイベント
END:VEVENT
BEGIN:VEVENT
DTSTART;TZID=Asia/Tokyo:20260323T173000
DTEND;TZID=Asia/Tokyo:20260323T180000
DTSTAMP:20260422T110818
CREATED:20260409T165226Z
LAST-MODIFIED:20260409T165226Z
UID:5210-1774287000-1774288800@class-earth.com
SUMMARY:【EFE】中級 / Circular Economy / Nao
DESCRIPTION:レベル：中級カテゴリ：Circular Economyテーマ：Subscription / サブスクフレーズ：Join us (仲間に加わる)ファシリテーター：Nao
URL:https://class-earth.com/event/%e3%80%90efe%e3%80%91%e4%b8%ad%e7%b4%9a-circular-economy-nao-2/
CATEGORIES:Earth Saver Family English,オンラインイベント
END:VEVENT
BEGIN:VEVENT
DTSTART;TZID=Asia/Tokyo:20260319T173000
DTEND;TZID=Asia/Tokyo:20260319T180000
DTSTAMP:20260422T110818
CREATED:20260409T165211Z
LAST-MODIFIED:20260409T165211Z
UID:5206-1773941400-1773943200@class-earth.com
SUMMARY:【EFE】中級 / Circular Economy / Nao
DESCRIPTION:レベル：中級カテゴリ：Circular Economyテーマ：Carbon / 炭素フレーズ：Store (蓄える)ファシリテーター：Nao
URL:https://class-earth.com/event/%e3%80%90efe%e3%80%91%e4%b8%ad%e7%b4%9a-circular-economy-nao/
CATEGORIES:Earth Saver Family English,オンラインイベント
END:VEVENT
BEGIN:VEVENT
DTSTART;TZID=Asia/Tokyo:20260319T170000
DTEND;TZID=Asia/Tokyo:20260319T173000
DTSTAMP:20260422T110818
CREATED:20260409T165211Z
LAST-MODIFIED:20260409T165211Z
UID:5205-1773939600-1773941400@class-earth.com
SUMMARY:【EFE】中級 / Nature & Biodiversity / Maiky
DESCRIPTION:レベル：中級カテゴリ：Nature & Biodiversityテーマ：Invasive / 外来種フレーズ：Keep out (立ち入らせない)ファシリテーター：Maiky
URL:https://class-earth.com/event/%e3%80%90efe%e3%80%91%e4%b8%ad%e7%b4%9a-nature-biodiversity-maiky-5/
CATEGORIES:Earth Saver Family English,オンラインイベント
END:VEVENT
BEGIN:VEVENT
DTSTART;TZID=Asia/Tokyo:20260318T173000
DTEND;TZID=Asia/Tokyo:20260318T180000
DTSTAMP:20260422T110818
CREATED:20260409T165156Z
LAST-MODIFIED:20260409T165156Z
UID:5202-1773855000-1773856800@class-earth.com
SUMMARY:【EFE】中級 / Food & Agriculture / Rina
DESCRIPTION:レベル：中級カテゴリ：Food & Agricultureテーマ：Alternative-meat / 代替肉フレーズ：Try this (これを試す)ファシリテーター：Rina
URL:https://class-earth.com/event/%e3%80%90efe%e3%80%91%e4%b8%ad%e7%b4%9a-food-agriculture-rina-2/
CATEGORIES:Earth Saver Family English,オンラインイベント
END:VEVENT
BEGIN:VEVENT
DTSTART;TZID=Asia/Tokyo:20260317T180000
DTEND;TZID=Asia/Tokyo:20260317T183000
DTSTAMP:20260422T110818
CREATED:20260409T165156Z
LAST-MODIFIED:20260409T165156Z
UID:5199-1773770400-1773772200@class-earth.com
SUMMARY:【EFE】中級 / Nature & Biodiversity / Maiky
DESCRIPTION:レベル：中級カテゴリ：Nature & Biodiversityテーマ：Symbiosis / 共生フレーズ：Live together (共に生きる)ファシリテーター：Maiky
URL:https://class-earth.com/event/%e3%80%90efe%e3%80%91%e4%b8%ad%e7%b4%9a-nature-biodiversity-maiky-4/
CATEGORIES:Earth Saver Family English,オンラインイベント
END:VEVENT
BEGIN:VEVENT
DTSTART;TZID=Asia/Tokyo:20260317T170000
DTEND;TZID=Asia/Tokyo:20260317T173000
DTSTAMP:20260422T110818
CREATED:20260409T165142Z
LAST-MODIFIED:20260409T165142Z
UID:5197-1773766800-1773768600@class-earth.com
SUMMARY:【EFE】中級 / Nature & Biodiversity / Maiky
DESCRIPTION:レベル：中級カテゴリ：Nature & Biodiversityテーマ：Ecosystem / 生態系フレーズ：Help each other (助け合う)ファシリテーター：Maiky
URL:https://class-earth.com/event/%e3%80%90efe%e3%80%91%e4%b8%ad%e7%b4%9a-nature-biodiversity-maiky-3/
CATEGORIES:Earth Saver Family English,オンラインイベント
END:VEVENT
BEGIN:VEVENT
DTSTART;TZID=Asia/Tokyo:20260316T180000
DTEND;TZID=Asia/Tokyo:20260316T183000
DTSTAMP:20260422T110818
CREATED:20260409T165141Z
LAST-MODIFIED:20260409T165141Z
UID:5195-1773684000-1773685800@class-earth.com
SUMMARY:【EFE】中級 / Nature & Biodiversity / Kano
DESCRIPTION:レベル：中級カテゴリ：Nature & Biodiversityテーマ：Habitats / 住処フレーズ：Find home (家を見つける)ファシリテーター：Kano
URL:https://class-earth.com/event/%e3%80%90efe%e3%80%91%e4%b8%ad%e7%b4%9a-nature-biodiversity-kano/
CATEGORIES:Earth Saver Family English,オンラインイベント
END:VEVENT
BEGIN:VEVENT
DTSTART;TZID=Asia/Tokyo:20260316T173000
DTEND;TZID=Asia/Tokyo:20260316T180000
DTSTAMP:20260422T110818
CREATED:20260409T165141Z
LAST-MODIFIED:20260409T165141Z
UID:5194-1773682200-1773684000@class-earth.com
SUMMARY:【EFE】中級 / Food & Agriculture / Rina
DESCRIPTION:レベル：中級カテゴリ：Food & Agricultureテーマ：Food-loss / 食品ロスフレーズ：Don’t waste (無駄にしない)ファシリテーター：Rina
URL:https://class-earth.com/event/%e3%80%90efe%e3%80%91%e4%b8%ad%e7%b4%9a-food-agriculture-rina/
CATEGORIES:Earth Saver Family English,オンラインイベント
END:VEVENT
BEGIN:VEVENT
DTSTART;TZID=Asia/Tokyo:20260313T180000
DTEND;TZID=Asia/Tokyo:20260313T183000
DTSTAMP:20260422T110818
CREATED:20260409T164958Z
LAST-MODIFIED:20260409T164958Z
UID:5191-1773424800-1773426600@class-earth.com
SUMMARY:【EFE】中級 / Nature & Biodiversity / Maiky
DESCRIPTION:レベル：中級カテゴリ：Nature & Biodiversityテーマ：Thinning / 間伐（かんばつ）フレーズ：Cut trees (木を切る)ファシリテーター：Maiky
URL:https://class-earth.com/event/%e3%80%90efe%e3%80%91%e4%b8%ad%e7%b4%9a-nature-biodiversity-maiky-2/
CATEGORIES:Earth Saver Family English,オンラインイベント
END:VEVENT
BEGIN:VEVENT
DTSTART;TZID=Asia/Tokyo:20260313T173000
DTEND;TZID=Asia/Tokyo:20260313T180000
DTSTAMP:20260422T110818
CREATED:20260409T164958Z
LAST-MODIFIED:20260409T164958Z
UID:5190-1773423000-1773424800@class-earth.com
SUMMARY:【EFE】中級 / Food & Agriculture / Nao
DESCRIPTION:レベル：中級カテゴリ：Food & Agricultureテーマ：Compost / 堆肥フレーズ：Turn into (〜に変わる)ファシリテーター：Nao
URL:https://class-earth.com/event/%e3%80%90efe%e3%80%91%e4%b8%ad%e7%b4%9a-food-agriculture-nao/
CATEGORIES:Earth Saver Family English,オンラインイベント
END:VEVENT
BEGIN:VEVENT
DTSTART;TZID=Asia/Tokyo:20260312T183000
DTEND;TZID=Asia/Tokyo:20260312T190000
DTSTAMP:20260422T110818
CREATED:20260409T164958Z
LAST-MODIFIED:20260409T164958Z
UID:5188-1773340200-1773342000@class-earth.com
SUMMARY:【EFE】中級 / Food & Agriculture / Yura
DESCRIPTION:レベル：中級カテゴリ：Food & Agricultureテーマ：Local / 地産地消フレーズ：Buy local (地元で買う)ファシリテーター：Yura
URL:https://class-earth.com/event/%e3%80%90efe%e3%80%91%e4%b8%ad%e7%b4%9a-food-agriculture-yura/
CATEGORIES:Earth Saver Family English,オンラインイベント
END:VEVENT
BEGIN:VEVENT
DTSTART;TZID=Asia/Tokyo:20260312T173000
DTEND;TZID=Asia/Tokyo:20260312T180000
DTSTAMP:20260422T110818
CREATED:20260409T164943Z
LAST-MODIFIED:20260409T164943Z
UID:5186-1773336600-1773338400@class-earth.com
SUMMARY:【EFE】中級 / Circular Economy / Rina
DESCRIPTION:レベル：中級カテゴリ：Circular Economyテーマ：Upcycle / アップサイクルフレーズ：Produce (作る)ファシリテーター：Rina
URL:https://class-earth.com/event/%e3%80%90efe%e3%80%91%e4%b8%ad%e7%b4%9a-circular-economy-rina/
CATEGORIES:Earth Saver Family English,オンラインイベント
END:VEVENT
BEGIN:VEVENT
DTSTART;TZID=Asia/Tokyo:20260312T170000
DTEND;TZID=Asia/Tokyo:20260312T173000
DTSTAMP:20260422T110818
CREATED:20260409T164943Z
LAST-MODIFIED:20260409T164943Z
UID:5185-1773334800-1773336600@class-earth.com
SUMMARY:【EFE】中級 / Nature & Biodiversity / Maiky
DESCRIPTION:レベル：中級カテゴリ：Nature & Biodiversityテーマ：Biomass / バイオマスフレーズ：Burn wood (木を燃やす)ファシリテーター：Maiky
URL:https://class-earth.com/event/%e3%80%90efe%e3%80%91%e4%b8%ad%e7%b4%9a-nature-biodiversity-maiky/
CATEGORIES:Earth Saver Family English,オンラインイベント
END:VEVENT
BEGIN:VEVENT
DTSTART;TZID=Asia/Tokyo:20260311T183000
DTEND;TZID=Asia/Tokyo:20260311T190000
DTSTAMP:20260422T110818
CREATED:20260409T164942Z
LAST-MODIFIED:20260409T164942Z
UID:5184-1773253800-1773255600@class-earth.com
SUMMARY:【EFE】中級 / Climate / Yura
DESCRIPTION:レベル：中級カテゴリ：Climateテーマ：Drought / 干ばつフレーズ：Save water (水を節約する)ファシリテーター：Yura
URL:https://class-earth.com/event/%e3%80%90efe%e3%80%91%e4%b8%ad%e7%b4%9a-climate-yura/
CATEGORIES:Earth Saver Family English,オンラインイベント
END:VEVENT
BEGIN:VEVENT
DTSTART;TZID=Asia/Tokyo:20260311T170000
DTEND;TZID=Asia/Tokyo:20260311T173000
DTSTAMP:20260422T110818
CREATED:20260409T164927Z
LAST-MODIFIED:20260409T164927Z
UID:5181-1773248400-1773250200@class-earth.com
SUMMARY:【EFE】中級 / Water & Marine / Rina
DESCRIPTION:レベル：中級カテゴリ：Water & Marineテーマ：Ocean-debris / 海洋ゴミフレーズ：Pick up (拾い上げる)ファシリテーター：Rina
URL:https://class-earth.com/event/%e3%80%90efe%e3%80%91%e4%b8%ad%e7%b4%9a-water-marine-rina-2/
CATEGORIES:Earth Saver Family English,オンラインイベント
END:VEVENT
BEGIN:VEVENT
DTSTART;TZID=Asia/Tokyo:20260310T183000
DTEND;TZID=Asia/Tokyo:20260310T190000
DTSTAMP:20260422T110818
CREATED:20260409T164927Z
LAST-MODIFIED:20260409T164927Z
UID:5180-1773167400-1773169200@class-earth.com
SUMMARY:【EFE】中級 / Food & Agriculture / Kano
DESCRIPTION:レベル：中級カテゴリ：Food & Agricultureテーマ：Agritechフレーズ：look forward toファシリテーター：Kano
URL:https://class-earth.com/event/%e3%80%90efe%e3%80%91%e4%b8%ad%e7%b4%9a-food-agriculture-kano/
CATEGORIES:Earth Saver Family English,オンラインイベント
END:VEVENT
BEGIN:VEVENT
DTSTART;TZID=Asia/Tokyo:20260309T183000
DTEND;TZID=Asia/Tokyo:20260309T190000
DTSTAMP:20260422T110818
CREATED:20260409T164926Z
LAST-MODIFIED:20260409T164926Z
UID:5176-1773081000-1773082800@class-earth.com
SUMMARY:【EFE】中級 / Climate / Kano
DESCRIPTION:レベル：中級カテゴリ：Climateテーマ：weatherフレーズ：get ready forファシリテーター：Kano
URL:https://class-earth.com/event/%e3%80%90efe%e3%80%91%e4%b8%ad%e7%b4%9a-climate-kano/
CATEGORIES:Earth Saver Family English,オンラインイベント
END:VEVENT
BEGIN:VEVENT
DTSTART;TZID=Asia/Tokyo:20260309T170000
DTEND;TZID=Asia/Tokyo:20260309T173000
DTSTAMP:20260422T110818
CREATED:20260409T164926Z
LAST-MODIFIED:20260409T164926Z
UID:5173-1773075600-1773077400@class-earth.com
SUMMARY:【EFE】中級 / Water & Marine / Rina
DESCRIPTION:レベル：中級カテゴリ：Water & Marineテーマ：freshwater resourcesフレーズ：reduceファシリテーター：Rina
URL:https://class-earth.com/event/%e3%80%90efe%e3%80%91%e4%b8%ad%e7%b4%9a-water-marine-rina/
CATEGORIES:Earth Saver Family English,オンラインイベント
END:VEVENT
END:VCALENDAR